BEGIN:VCALENDAR
VERSION:2.0
PRODID:-//Squarespace Inc/Squarespace 6//v6//EN
BEGIN:VEVENT
UID:5e50d9c79fa7880e2a1a84ab@squarespace.com
DTSTAMP:20200711T034101Z
DTSTART:20201111T053000Z
DTEND:20201111T080000Z
SUMMARY:HypnoBirthing Evening Classes - Commencing Wednesday 11 November\, 
 2020
GEO:-36.94553;174.964775
LOCATION:Bespoke Births (NZ) - HypnoBirthing\, 8 Whitford-Maraetai Road\, A
 uckland\, Auckland\, 2571\, New Zealand
END:VEVENT
END:VCALENDAR
