BEGIN:VCALENDAR
VERSION:2.0
PRODID:-//Squarespace Inc/Squarespace 6//v6//EN
BEGIN:VEVENT
UID:5e50d5a28ff9f5167f738f03@squarespace.com
DTSTAMP:20200711T034037Z
DTSTART:20200902T063000Z
DTEND:20200902T090000Z
SUMMARY:HypnoBirthing Evening Classes - Commencing Wednesday 02 September\, 
 2020 
GEO:-36.94553;174.964775
LOCATION:Bespoke Births (NZ) - HypnoBirthing\, 8 Whitford-Maraetai Road\, A
 uckland\, Auckland\, 2571\, New Zealand
END:VEVENT
END:VCALENDAR
