BEGIN:VCALENDAR
VERSION:2.0
PRODID:-//Squarespace Inc/Squarespace 6//v6//EN
BEGIN:VEVENT
UID:5e50d7ef29ef9101743c8951@squarespace.com
DTSTAMP:20200711T034045Z
DTSTART:20201007T053000Z
DTEND:20201007T080000Z
SUMMARY:HypnoBirthing Evening Classes - Commencing Wednesday 07 October\, 2
 020
GEO:-36.94553;174.964775
LOCATION:Bespoke Births (NZ) - HypnoBirthing\, 8 Whitford-Maraetai Road\, A
 uckland\, Auckland\, 2571\, New Zealand
END:VEVENT
END:VCALENDAR
