BEGIN:VCALENDAR
VERSION:2.0
PRODID:-//Squarespace Inc/Squarespace 6//v6//EN
BEGIN:VEVENT
UID:5e50d48c1408117e3b46debf@squarespace.com
DTSTAMP:20200711T034026Z
DTSTART:20200729T063000Z
DTEND:20200729T090000Z
SUMMARY:HypnoBirthing Evening Classes - Commencing Wednesday 29 July\, 2020 
GEO:-36.94553;174.964775
LOCATION:Bespoke Births (NZ) - HypnoBirthing\, 8 Whitford-Maraetai Road\, A
 uckland\, Auckland\, 2571\, New Zealand
END:VEVENT
END:VCALENDAR
