BEGIN:VCALENDAR
VERSION:2.0
PRODID:-//Squarespace Inc/Squarespace 6//v6//EN
BEGIN:VEVENT
UID:5ffbdbc6c7cba04ea30bac55@squarespace.com
DTSTAMP:20210111T050326Z
DTSTART:20211006T053000Z
DTEND:20211103T081500Z
SUMMARY:HypnoBirthing Evening Classes - Whitford/Maraetai - Commencing Wedn
 esday 06 October\, 2021
GEO:40.720756;-74.000761
LOCATION:Bespoke Births NZ\, Auckland\, NZ
END:VEVENT
END:VCALENDAR
