BEGIN:VCALENDAR
VERSION:2.0
PRODID:-//Squarespace Inc/Squarespace 6//v6//EN
BEGIN:VEVENT
UID:5ffbdcfd6aadcc4303259e21@squarespace.com
DTSTAMP:20210111T050824Z
DTSTART:20211110T053000Z
DTEND:20211208T081500Z
SUMMARY:HypnoBirthing Evening Classes - Whitford/Maraetai - FINAL for 2021 
 - Commencing Wednesday 10 November\, 2021
GEO:40.720756;-74.000761
LOCATION:Bespoke Births NZ\, Auckland\, NZ
END:VEVENT
END:VCALENDAR
