BEGIN:VCALENDAR
VERSION:2.0
PRODID:-//Squarespace Inc/Squarespace 6//v6//EN
BEGIN:VEVENT
UID:5ffbd83f7a7b7d4c02b2722a@squarespace.com
DTSTAMP:20210111T050134Z
DTSTART:20210901T063000Z
DTEND:20210929T081500Z
SUMMARY:HypnoBirthing Evening Classes - Whitford/Maraetai - Commencing Wedn
 esday 01 September\, 2021
GEO:40.720756;-74.000761
LOCATION:Bespoke Births NZ\, Auckland\, NZ
END:VEVENT
END:VCALENDAR
