BEGIN:VCALENDAR
VERSION:2.0
PRODID:-//Squarespace Inc/Squarespace 6//v6//EN
BEGIN:VEVENT
UID:5ffbd78e2b262f3dd38033c2@squarespace.com
DTSTAMP:20210111T050125Z
DTSTART:20210728T063000Z
DTEND:20210825T091500Z
SUMMARY:HypnoBirthing Evening Classes - Whitford/Maraetai - Commencing Wedn
 esday 28 July\, 2021
GEO:40.720756;-74.000761
LOCATION:Bespoke Births NZ\, Auckland\, NZ
END:VEVENT
END:VCALENDAR
