BEGIN:VCALENDAR
VERSION:2.0
PRODID:-//Squarespace Inc/Squarespace 6//v6//EN
BEGIN:VEVENT
UID:5ffbd6d33fb0df529a05e8f8@squarespace.com
DTSTAMP:20210111T050108Z
DTSTART:20210602T063000Z
DTEND:20210630T091500Z
SUMMARY:HypnoBirthing Evening Classes - Whitford/Maraetai - Commencing Wedn
 esday 02 June\, 2021
GEO:40.720756;-74.000761
LOCATION:Bespoke Births NZ\, Auckland\, NZ
END:VEVENT
END:VCALENDAR
