BEGIN:VCALENDAR
VERSION:2.0
PRODID:-//Squarespace Inc/Squarespace 6//v6//EN
BEGIN:VEVENT
UID:5ffbdd5502df0e5b2d25d929@squarespace.com
DTSTAMP:20210111T050959Z
DTSTART:20211112T203000Z
DTEND:20211210T231500Z
SUMMARY:HypnoBirthing Saturday Classes - Eastern Bays - FINAL for 2021 - Co
 mmencing Saturday 13 November\, 2021
GEO:40.720756;-74.000761
LOCATION:Bespoke Births NZ\, Auckland\, NZ
END:VEVENT
END:VCALENDAR
