BEGIN:VCALENDAR
VERSION:2.0
PRODID:-//Squarespace Inc/Squarespace 6//v6//EN
BEGIN:VEVENT
UID:5ffbdc2b79a6bc1bd62500b6@squarespace.com
DTSTAMP:20210111T050643Z
DTSTART:20211008T203000Z
DTEND:20211112T231500Z
SUMMARY:HypnoBirthing Saturday Classes - Eastern Bays - Commencing Saturday 
 09 October\, 2021
GEO:40.720756;-74.000761
LOCATION:Bespoke Births NZ\, Auckland\, NZ
END:VEVENT
END:VCALENDAR
