BEGIN:VCALENDAR
VERSION:2.0
PRODID:-//Squarespace Inc/Squarespace 6//v6//EN
BEGIN:VEVENT
UID:5ffbd950c7cba04ea30b8ae3@squarespace.com
DTSTAMP:20210111T050142Z
DTSTART:20210903T213000Z
DTEND:20211001T231500Z
SUMMARY:HypnoBirthing Saturday Classes - Eastern Bays - Commencing Saturday 
 04 September\, 2021
GEO:40.720756;-74.000761
LOCATION:Bespoke Births NZ\, Auckland\, NZ
END:VEVENT
END:VCALENDAR
