BEGIN:VCALENDAR
VERSION:2.0
PRODID:-//Squarespace Inc/Squarespace 6//v6//EN
BEGIN:VEVENT
UID:5ffbd7363b112d2bb6f4770a@squarespace.com
DTSTAMP:20210111T050117Z
DTSTART:20210604T213000Z
DTEND:20210703T001500Z
SUMMARY:HypnoBirthing Saturday Classes - Eastern Bays - Commencing Saturday 
 05 June 2021
GEO:40.720756;-74.000761
LOCATION:Bespoke Births NZ\, Auckland\, NZ
END:VEVENT
END:VCALENDAR
