BEGIN:VCALENDAR
VERSION:2.0
PRODID:-//Squarespace Inc/Squarespace 6//v6//EN
BEGIN:VEVENT
UID:5ffbd66ae12ca55bafc0293b@squarespace.com
DTSTAMP:20210111T050100Z
DTSTART:20210430T213000Z
DTEND:20210529T001500Z
SUMMARY:HypnoBirthing Saturday Classes - Eastern Bays - Commencing Saturday 
 01 May\, 2021  
GEO:40.720756;-74.000761
LOCATION:Bespoke Births NZ\, Auckland\, NZ
END:VEVENT
END:VCALENDAR
