BEGIN:VCALENDAR
VERSION:2.0
PRODID:-//Squarespace Inc/Squarespace 6//v6//EN
BEGIN:VEVENT
UID:5ffbd3cb0ab0261f05644632@squarespace.com
DTSTAMP:20210118T073447Z
DTSTART:20210319T203000Z
DTEND:20210424T001500Z
SUMMARY:HypnoBirthing Saturday Classes - Eastern Bays - Commencing Saturday 
 20 March\, 2021 
GEO:40.720756;-74.000761
LOCATION:Bespoke Births NZ\, Auckland\, NZ
END:VEVENT
END:VCALENDAR
