BEGIN:VCALENDAR
VERSION:2.0
PRODID:-//Squarespace Inc/Squarespace 6//v6//EN
BEGIN:VEVENT
UID:5ffbd21e0ab0261f05642ea5@squarespace.com
DTSTAMP:20210118T073350Z
DTSTART:20210317T053000Z
DTEND:20210414T091500Z
SUMMARY:HypnoBirthing Evening Classes - Whitford/Maraetai - Commencing Wedn
 esday 17 March\, 2021
GEO:40.720756;-74.000761
LOCATION:Bespoke Births NZ\, Auckland\, NZ
END:VEVENT
END:VCALENDAR
