BEGIN:VCALENDAR
VERSION:2.0
PRODID:-//Squarespace Inc/Squarespace 6//v6//EN
BEGIN:VEVENT
UID:5f34c14685b09b00fec3f5e0@squarespace.com
DTSTAMP:20200813T045216Z
DTSTART:20210312T200000Z
DTEND:20210313T200000Z
SUMMARY:AUTUMN BABY SHOW 2021 - MARCH 2021 - See You There! 
GEO:-36.892608;174.782511
LOCATION:ASB Showgrounds\, 217 Green Lane West\, Epsom\, Auckland\, New Zea
 land
END:VEVENT
END:VCALENDAR
